BEGIN:VCALENDAR
VERSION:2.0
PRODID:-//SG Weißensee 49 - ECPv6.15.20//NONSGML v1.0//EN
CALSCALE:GREGORIAN
METHOD:PUBLISH
X-ORIGINAL-URL:https://schach.sgw49.de
X-WR-CALDESC:Veranstaltungen für SG Weißensee 49
REFRESH-INTERVAL;VALUE=DURATION:PT1H
X-Robots-Tag:noindex
X-PUBLISHED-TTL:PT1H
BEGIN:VTIMEZONE
TZID:Europe/Berlin
BEGIN:DAYLIGHT
TZOFFSETFROM:+0100
TZOFFSETTO:+0200
TZNAME:CEST
DTSTART:20240331T010000
END:DAYLIGHT
BEGIN:STANDARD
TZOFFSETFROM:+0200
TZOFFSETTO:+0100
TZNAME:CET
DTSTART:20241027T010000
END:STANDARD
BEGIN:DAYLIGHT
TZOFFSETFROM:+0100
TZOFFSETTO:+0200
TZNAME:CEST
DTSTART:20250330T010000
END:DAYLIGHT
BEGIN:STANDARD
TZOFFSETFROM:+0200
TZOFFSETTO:+0100
TZNAME:CET
DTSTART:20251026T010000
END:STANDARD
BEGIN:DAYLIGHT
TZOFFSETFROM:+0100
TZOFFSETTO:+0200
TZNAME:CEST
DTSTART:20260329T010000
END:DAYLIGHT
BEGIN:STANDARD
TZOFFSETFROM:+0200
TZOFFSETTO:+0100
TZNAME:CET
DTSTART:20261025T010000
END:STANDARD
BEGIN:DAYLIGHT
TZOFFSETFROM:+0100
TZOFFSETTO:+0200
TZNAME:CEST
DTSTART:20270328T010000
END:DAYLIGHT
BEGIN:STANDARD
TZOFFSETFROM:+0200
TZOFFSETTO:+0100
TZNAME:CET
DTSTART:20271031T010000
END:STANDARD
END:VTIMEZONE
BEGIN:VEVENT
DTSTART;TZID=Europe/Berlin:20260419T090000
DTEND;TZID=Europe/Berlin:20260419T140000
DTSTAMP:20260420T112659
CREATED:20250716T071415Z
LAST-MODIFIED:20250716T071415Z
UID:9245-1776589200-1776607200@schach.sgw49.de
SUMMARY:BMM 2025/26 Runde 9
DESCRIPTION:
URL:https://schach.sgw49.de/event/bmm-2025-26-runde-9/
END:VEVENT
BEGIN:VEVENT
DTSTART;TZID=Europe/Berlin:20260326T193000
DTEND;TZID=Europe/Berlin:20260326T223000
DTSTAMP:20260420T112659
CREATED:20250716T072518Z
LAST-MODIFIED:20250716T072518Z
UID:9267-1774553400-1774564200@schach.sgw49.de
SUMMARY:Blitz 2026 Runde 3
DESCRIPTION:
URL:https://schach.sgw49.de/event/blitz-2026-runde-3/
END:VEVENT
BEGIN:VEVENT
DTSTART;TZID=Europe/Berlin:20260325T190000
DTEND;TZID=Europe/Berlin:20260325T230000
DTSTAMP:20260420T112659
CREATED:20251010T111439Z
LAST-MODIFIED:20251010T111439Z
UID:10362-1774465200-1774479600@schach.sgw49.de
SUMMARY:BFL 2025/26 Runde 8
DESCRIPTION:auswärts\, Staffel A\, bei SF Berlin 2
URL:https://schach.sgw49.de/event/bfl-2025-26-runde-8/
END:VEVENT
BEGIN:VEVENT
DTSTART;TZID=Europe/Berlin:20260324T190000
DTEND;TZID=Europe/Berlin:20260324T230000
DTSTAMP:20260420T112659
CREATED:20251010T111553Z
LAST-MODIFIED:20251029T080641Z
UID:10364-1774378800-1774393200@schach.sgw49.de
SUMMARY:BFL 2025/26 Runde 8
DESCRIPTION:auswärts\, Staffel C\, bei Roter Stern
URL:https://schach.sgw49.de/event/bfl-2025-26-runde-8-2/
END:VEVENT
BEGIN:VEVENT
DTSTART;TZID=Europe/Berlin:20260322T090000
DTEND;TZID=Europe/Berlin:20260322T140000
DTSTAMP:20260420T112659
CREATED:20250716T071540Z
LAST-MODIFIED:20250716T071540Z
UID:9247-1774170000-1774188000@schach.sgw49.de
SUMMARY:BMM 2025/26 Runde 8
DESCRIPTION:
URL:https://schach.sgw49.de/event/bmm-2025-26-runde-8/
END:VEVENT
BEGIN:VEVENT
DTSTART;TZID=Europe/Berlin:20260312T193000
DTEND;TZID=Europe/Berlin:20260312T223000
DTSTAMP:20260420T112659
CREATED:20250716T072858Z
LAST-MODIFIED:20250716T072858Z
UID:9275-1773343800-1773354600@schach.sgw49.de
SUMMARY:CM 2025/26 Runde 6
DESCRIPTION:
URL:https://schach.sgw49.de/event/cm-2025-26-runde-6/
END:VEVENT
BEGIN:VEVENT
DTSTART;TZID=Europe/Berlin:20260312T190000
DTEND;TZID=Europe/Berlin:20260312T230000
DTSTAMP:20260420T112659
CREATED:20251010T111303Z
LAST-MODIFIED:20251010T111303Z
UID:10360-1773342000-1773356400@schach.sgw49.de
SUMMARY:BFL 2025/26 Runde 7
DESCRIPTION:heim\, Staffel A+C\, SF Berlin 1+5
URL:https://schach.sgw49.de/event/bfl-2025-26-runde-7/
END:VEVENT
BEGIN:VEVENT
DTSTART;TZID=Europe/Berlin:20260308T090000
DTEND;TZID=Europe/Berlin:20260308T140000
DTSTAMP:20260420T112659
CREATED:20250716T071642Z
LAST-MODIFIED:20250716T071642Z
UID:9249-1772960400-1772978400@schach.sgw49.de
SUMMARY:BMM 2025/26 Runde 7
DESCRIPTION:
URL:https://schach.sgw49.de/event/bmm-2025-26-runde-7/
END:VEVENT
BEGIN:VEVENT
DTSTART;TZID=Europe/Berlin:20260302T190000
DTEND;TZID=Europe/Berlin:20260302T230000
DTSTAMP:20260420T112659
CREATED:20251010T111119Z
LAST-MODIFIED:20260224T170751Z
UID:10358-1772478000-1772492400@schach.sgw49.de
SUMMARY:BFL 2025/26 Runde 6 - verschoben
DESCRIPTION:auswärts\, Staffel A\, bei Rotation 1
URL:https://schach.sgw49.de/event/bfl-2025-26-runde-6/
END:VEVENT
BEGIN:VEVENT
DTSTART;TZID=Europe/Berlin:20260222T090000
DTEND;TZID=Europe/Berlin:20260222T140000
DTSTAMP:20260420T112659
CREATED:20250716T071736Z
LAST-MODIFIED:20250716T071736Z
UID:9251-1771750800-1771768800@schach.sgw49.de
SUMMARY:BMM 2025/26 Runde 6
DESCRIPTION:
URL:https://schach.sgw49.de/event/bmm-2025-26-runde-6/
END:VEVENT
BEGIN:VEVENT
DTSTART;TZID=Europe/Berlin:20260212T193000
DTEND;TZID=Europe/Berlin:20260212T223000
DTSTAMP:20260420T112659
CREATED:20250716T072951Z
LAST-MODIFIED:20250716T072951Z
UID:9277-1770924600-1770935400@schach.sgw49.de
SUMMARY:CM 2025/26 Runde 5
DESCRIPTION:
URL:https://schach.sgw49.de/event/cm-2025-26-runde-5/
END:VEVENT
BEGIN:VEVENT
DTSTART;TZID=Europe/Berlin:20260212T193000
DTEND;TZID=Europe/Berlin:20260212T223000
DTSTAMP:20260420T112659
CREATED:20250716T072606Z
LAST-MODIFIED:20250716T072606Z
UID:9269-1770924600-1770935400@schach.sgw49.de
SUMMARY:Blitz 2026 Runde 2
DESCRIPTION:
URL:https://schach.sgw49.de/event/blitz-2026-runde-2/
END:VEVENT
BEGIN:VEVENT
DTSTART;TZID=Europe/Berlin:20260129T190000
DTEND;TZID=Europe/Berlin:20260129T230000
DTSTAMP:20260420T112659
CREATED:20251010T110926Z
LAST-MODIFIED:20251010T110926Z
UID:10356-1769713200-1769727600@schach.sgw49.de
SUMMARY:BFL 2025/26 Runde 5
DESCRIPTION:auswärts\, Staffel A+C\, bei TSV Mariendorf 1+2
URL:https://schach.sgw49.de/event/bfl-2025-26-runde-5/
END:VEVENT
BEGIN:VEVENT
DTSTART;TZID=Europe/Berlin:20260125T090000
DTEND;TZID=Europe/Berlin:20260125T140000
DTSTAMP:20260420T112659
CREATED:20250716T071829Z
LAST-MODIFIED:20250716T071829Z
UID:9253-1769331600-1769349600@schach.sgw49.de
SUMMARY:BMM 2025/26 Runde 5
DESCRIPTION:
URL:https://schach.sgw49.de/event/bmm-2025-26-runde-5/
END:VEVENT
BEGIN:VEVENT
DTSTART;TZID=Europe/Berlin:20260115T193000
DTEND;TZID=Europe/Berlin:20260115T223000
DTSTAMP:20260420T112659
CREATED:20250716T072653Z
LAST-MODIFIED:20260105T100821Z
UID:9271-1768505400-1768516200@schach.sgw49.de
SUMMARY:Blitz 2026 Runde 1
DESCRIPTION:
URL:https://schach.sgw49.de/event/blitz-2026-runde-1/
END:VEVENT
BEGIN:VEVENT
DTSTART;TZID=Europe/Berlin:20260114T190000
DTEND;TZID=Europe/Berlin:20260114T230000
DTSTAMP:20260420T112659
CREATED:20251010T110224Z
LAST-MODIFIED:20251027T175545Z
UID:10354-1768417200-1768431600@schach.sgw49.de
SUMMARY:BFL 2025/26 Runde 4
DESCRIPTION:auswärts\, Staffel A\, TSG Oberschöneweide
URL:https://schach.sgw49.de/event/bfl-2025-26-runde-4/
END:VEVENT
BEGIN:VEVENT
DTSTART;TZID=Europe/Berlin:20260111T090000
DTEND;TZID=Europe/Berlin:20260111T140000
DTSTAMP:20260420T112659
CREATED:20250716T071916Z
LAST-MODIFIED:20250716T071916Z
UID:9255-1768122000-1768140000@schach.sgw49.de
SUMMARY:BMM 2025/26 Runde 4
DESCRIPTION:
URL:https://schach.sgw49.de/event/bmm-2025-26-runde-4/
END:VEVENT
BEGIN:VEVENT
DTSTART;TZID=Europe/Berlin:20260108T193000
DTEND;TZID=Europe/Berlin:20260108T223000
DTSTAMP:20260420T112659
CREATED:20250716T073042Z
LAST-MODIFIED:20250716T073042Z
UID:9279-1767900600-1767911400@schach.sgw49.de
SUMMARY:CM 2025/26 Runde 4
DESCRIPTION:
URL:https://schach.sgw49.de/event/cm-2025-26-runde-4/
END:VEVENT
BEGIN:VEVENT
DTSTART;TZID=Europe/Berlin:20251127T193000
DTEND;TZID=Europe/Berlin:20251127T223000
DTSTAMP:20260420T112659
CREATED:20250716T073138Z
LAST-MODIFIED:20250716T073138Z
UID:9281-1764271800-1764282600@schach.sgw49.de
SUMMARY:CM 2025/26 Runde 3
DESCRIPTION:
URL:https://schach.sgw49.de/event/cm-2025-26-runde-3/
END:VEVENT
BEGIN:VEVENT
DTSTART;TZID=Europe/Berlin:20251126T190000
DTEND;TZID=Europe/Berlin:20251126T230000
DTSTAMP:20260420T112659
CREATED:20251010T105957Z
LAST-MODIFIED:20251010T105957Z
UID:10352-1764183600-1764198000@schach.sgw49.de
SUMMARY:BFL 2025/26 Runde 3
DESCRIPTION:auswärts\, Staffel A\, bei SC Kreuzberg 2
URL:https://schach.sgw49.de/event/bfl-2025-26-runde-3-2/
END:VEVENT
BEGIN:VEVENT
DTSTART;TZID=Europe/Berlin:20251124T190000
DTEND;TZID=Europe/Berlin:20251124T230000
DTSTAMP:20260420T112659
CREATED:20251010T105843Z
LAST-MODIFIED:20251010T105843Z
UID:10350-1764010800-1764025200@schach.sgw49.de
SUMMARY:BFL 2025/26 Runde 3
DESCRIPTION:auswärts\, Staffel C\, bei SK International 2
URL:https://schach.sgw49.de/event/bfl-2025-26-runde-3/
END:VEVENT
BEGIN:VEVENT
DTSTART;TZID=Europe/Berlin:20251123T090000
DTEND;TZID=Europe/Berlin:20251123T140000
DTSTAMP:20260420T112659
CREATED:20250716T072000Z
LAST-MODIFIED:20250716T072000Z
UID:9257-1763888400-1763906400@schach.sgw49.de
SUMMARY:BMM 2025/26 Runde 3
DESCRIPTION:
URL:https://schach.sgw49.de/event/bmm-2025-26-runde-3/
END:VEVENT
BEGIN:VEVENT
DTSTART;TZID=Europe/Berlin:20251113T190000
DTEND;TZID=Europe/Berlin:20251113T230000
DTSTAMP:20260420T112659
CREATED:20251010T105337Z
LAST-MODIFIED:20251010T105547Z
UID:10348-1763060400-1763074800@schach.sgw49.de
SUMMARY:BFL 2025/26 Runde 2
DESCRIPTION:heim\, Staffel A+C\, Kreuzberg 1+3
URL:https://schach.sgw49.de/event/bfl-2025-26-runde-2/
END:VEVENT
BEGIN:VEVENT
DTSTART;TZID=Europe/Berlin:20251109T090000
DTEND;TZID=Europe/Berlin:20251109T140000
DTSTAMP:20260420T112659
CREATED:20250716T072042Z
LAST-MODIFIED:20250716T072042Z
UID:9259-1762678800-1762696800@schach.sgw49.de
SUMMARY:BMM 2025/26 Runde 2
DESCRIPTION:
URL:https://schach.sgw49.de/event/bmm-2025-26-runde-2/
END:VEVENT
BEGIN:VEVENT
DTSTART;TZID=Europe/Berlin:20251030T193000
DTEND;TZID=Europe/Berlin:20251030T223000
DTSTAMP:20260420T112659
CREATED:20250716T073244Z
LAST-MODIFIED:20250716T073244Z
UID:9283-1761852600-1761863400@schach.sgw49.de
SUMMARY:CM 2025/26 Runde 2
DESCRIPTION:
URL:https://schach.sgw49.de/event/cm-2025-26-runde-2/
END:VEVENT
BEGIN:VEVENT
DTSTART;TZID=Europe/Berlin:20251016T190000
DTEND;TZID=Europe/Berlin:20251016T230000
DTSTAMP:20260420T112659
CREATED:20251010T105050Z
LAST-MODIFIED:20251010T105503Z
UID:10344-1760641200-1760655600@schach.sgw49.de
SUMMARY:BFL 2025/26 Runde 1
DESCRIPTION:auswärts\, Staffel A+C\, bei Berolina Mitte 1+2
URL:https://schach.sgw49.de/event/bfl-2025-26-runde-1/
END:VEVENT
BEGIN:VEVENT
DTSTART;TZID=Europe/Berlin:20251012T090000
DTEND;TZID=Europe/Berlin:20251012T140000
DTSTAMP:20260420T112659
CREATED:20250716T072129Z
LAST-MODIFIED:20250716T072129Z
UID:9261-1760259600-1760277600@schach.sgw49.de
SUMMARY:BMM 2025/26 Runde 1
DESCRIPTION:
URL:https://schach.sgw49.de/event/bmm-2025-26-runde-1/
END:VEVENT
BEGIN:VEVENT
DTSTART;TZID=Europe/Berlin:20251002T193000
DTEND;TZID=Europe/Berlin:20251002T223000
DTSTAMP:20260420T112659
CREATED:20250716T073328Z
LAST-MODIFIED:20250716T073328Z
UID:9285-1759433400-1759444200@schach.sgw49.de
SUMMARY:CM 2025/26 Runde 1
DESCRIPTION:
URL:https://schach.sgw49.de/event/cm-2025-26-runde-1/
END:VEVENT
BEGIN:VEVENT
DTSTART;TZID=Europe/Berlin:20250925T193000
DTEND;TZID=Europe/Berlin:20250925T223000
DTSTAMP:20260420T112659
CREATED:20250731T064226Z
LAST-MODIFIED:20250731T071010Z
UID:9800-1758828600-1758839400@schach.sgw49.de
SUMMARY:Jahreshauptversammlung 2025
DESCRIPTION:Die Einladung mit Tagesordnung wurde an alle Mitglieder verschickt. \nDer Vorstand bittet um zahlreiches Erscheinen.
URL:https://schach.sgw49.de/event/jahreshauptversammlung-2025/
END:VEVENT
BEGIN:VEVENT
DTSTART;TZID=Europe/Berlin:20250828T190000
DTEND;TZID=Europe/Berlin:20250828T230000
DTSTAMP:20260420T112659
CREATED:20250126T161747Z
LAST-MODIFIED:20250126T161747Z
UID:8766-1756407600-1756422000@schach.sgw49.de
SUMMARY:Schnellschach - Runde 5
DESCRIPTION:
URL:https://schach.sgw49.de/event/schnellschach-runde-5/
END:VEVENT
END:VCALENDAR